Felt | Verdi |
AlreadyApplied | True |
Aperture | 11.0 |
ApertureValue | 11.0 |
ApproximateFocusDistance | 4294967295 |
AutoLateralCA | 1 |
AutoWhiteVersion | 134348800 |
BitsPerSample | 8 |
Blacks2012 | -82 |
BlueHue | 0 |
BlueSaturation | 0 |
CameraProfile | Adobe Standard |
CFAPattern | [Red,Green][Green,Blue] |
CircleOfConfusion | 0.030 mm |
Clarity2012 | +25 |
ColorComponents | 3 |
ColorNoiseReduction | 25 |
ColorNoiseReductionDetail | 50 |
ColorNoiseReductionSmoothness | 50 |
ColorTemperature | 7892 |
ColorTransform | YCbCr |
Contrast | Normal |
Contrast2012 | 0 |
ConvertToGrayscale | False |
CreateDate (1) | 2015:01:28 13:22:16.10 |
CreateDate | 2015:01:28 13:22:16 |
CreatorTool | Adobe Photoshop Lightroom 5.7 (Macintosh) |
CropAngle | -1.6885 |
CropBottom | 0.947301 |
CropConstrainToWarp | 0 |
CropLeft | 0.005627 |
CropRight | 1 |
CropTop | 0.075162 |
CustomRendered | Normal |
DateCreated (1) | 2015:01:28 |
DateCreated | 2015:01:28 13:22:16.10 |
DateTimeOriginal | 2015:01:28 13:22:16 |
DefringeGreenAmount | 0 |
DefringeGreenHueHi | 60 |
DefringeGreenHueLo | 40 |
DefringePurpleAmount | 0 |
DefringePurpleHueHi | 70 |
DefringePurpleHueLo | 30 |
DigitalZoomRatio | 1 |
DOF | inf (1.09 m - inf) |
Exposure2012 | 0.00 |
ExposureCompensation | 0 |
ExposureMode | Manual |
ExposureProgram | Manual |
ExposureTime | 1 |
Flash | Off, Did not fire |
FNumber | 11.0 |
FocalLength | 19.0 mm |
FocalLength35efl | 19.0 mm (35 mm equivalent: 19.0 mm) |
FocalLengthIn35mmFormat | 19 mm |
Format | image/jpeg |
FOV | 86.9 deg |
GainControl | None |
GradientBasedCorrActive | true |
GradientBasedCorrAmount | 1.000000 |
GradientBasedCorrBrightness | 0.000000 |
GradientBasedCorrClarity2012 (1) | 0.306801 |
GradientBasedCorrClarity2012 | 0.606710 |
GradientBasedCorrContrast2012 (1) | 0.160294 |
GradientBasedCorrContrast2012 | 0.154779 |
GradientBasedCorrDefringe | 0.000000 |
GradientBasedCorrExposure2012 (1) | 0.000000 |
GradientBasedCorrExposure2012 | -0.075000 |
GradientBasedCorrHighlights2012 | -1.000000 |
GradientBasedCorrHue (1) | 240.000000 |
GradientBasedCorrHue | 36.687500 |
GradientBasedCorrLuminanceNoise | 0.000000 |
GradientBasedCorrMaskFullX (1) | 0.451524 |
GradientBasedCorrMaskFullX | 0.449703 |
GradientBasedCorrMaskFullY (1) | 0.053777 |
GradientBasedCorrMaskFullY | 0.854398 |
GradientBasedCorrMaskValue | 1.000000 |
GradientBasedCorrMaskWhat | Mask/Gradient |
GradientBasedCorrMaskZeroX (1) | 0.463009 |
GradientBasedCorrMaskZeroX | 0.434745 |
GradientBasedCorrMaskZeroY (1) | 0.662380 |
GradientBasedCorrMaskZeroY | -0.119412 |
GradientBasedCorrMoire | 0.000000 |
GradientBasedCorrSaturation (1) | 0.000000 |
GradientBasedCorrSaturation (3) | 0.068750 |
GradientBasedCorrSaturation | 0.184336 |
GradientBasedCorrShadows2012 (1) | 0.255239 |
GradientBasedCorrShadows2012 | 0.000000 |
GradientBasedCorrSharpness (1) | 0.000000 |
GradientBasedCorrSharpness | 0.613879 |
GradientBasedCorrTemperature (1) | 0.000000 |
GradientBasedCorrTemperature | 0.244393 |
GradientBasedCorrTint | 0.000000 |
GradientBasedCorrWhat | Correction |
GrainAmount | 0 |
GreenHue | 0 |
GreenSaturation | 0 |
HasCrop | True |
HasExtendedXMP | 2AA2375681DAEA52F8582A37537D58E3 |
HasSettings | True |
Highlights2012 | -100 |
HueAdjustmentAqua | +13 |
HueAdjustmentBlue | +7 |
HueAdjustmentGreen | -15 |
HueAdjustmentMagenta | 0 |
HueAdjustmentOrange | -7 |
HueAdjustmentPurple | 0 |
HueAdjustmentRed | -9 |
HueAdjustmentYellow | -13 |
HyperfocalDistance | 1.09 m |
ImageHeight | 4498 |
ImageNumber | 3374 |
ImageSize | 7189x4498 |
ImageWidth | 7189 |
ISO | 50 |
Lens | 14.0-24.0 mm f/2.8 |
LensID (1) | 146 |
LensID | AF-S Zoom-Nikkor 14-24mm f/2.8G ED |
LensInfo | 14-24mm f/2.8 |
LensManualDistortionAmount | 0 |
LensModel | 14.0-24.0 mm f/2.8 |
LensProfileChromaticAberrationScale | 100 |
LensProfileDistortionScale | 100 |
LensProfileEnable | 1 |
LensProfileFilename | NIKON D3X (Nikon FX 14-24mm f2.8 G ED) - RAW.lcp |
LensProfileName | Adobe (Nikon AF-S NIKKOR 14-24mm f/2.8G ED) |
LensProfileSetup | LensDefaults |
LensProfileVignettingScale | 100 |
LightSource | Cloudy |
LightValue | 7.9 |
LuminanceAdjustmentAqua | -21 |
LuminanceAdjustmentBlue | -10 |
LuminanceAdjustmentGreen | -9 |
LuminanceAdjustmentMagenta | 0 |
LuminanceAdjustmentOrange | -7 |
LuminanceAdjustmentPurple | 0 |
LuminanceAdjustmentRed | -13 |
LuminanceAdjustmentYellow | -6 |
LuminanceSmoothing | 0 |
Make | NIKON CORPORATION |
MaxApertureValue | 2.8 |
Megapixels | 32.3 |
MeteringMode | Spot |
Model | NIKON D800 |
ModifyDate (1) | 2015:01:30 09:59:15+01:00 |
ModifyDate | 2015:01:30 09:59:15 |
PaintCorrectionActive | true |
PaintCorrectionAmount | 1.000000 |
PaintCorrectionBrightness | 0.000000 |
PaintCorrectionClarity2012 (3) | 0.360662 |
PaintCorrectionClarity2012 | 0.000000 |
PaintCorrectionContrast2012 (3) | 0.274265 |
PaintCorrectionContrast2012 | 0.000000 |
PaintCorrectionDefringe | 0.000000 |
PaintCorrectionExposure2012 (1) | 0.106710 |
PaintCorrectionExposure2012 (2) | 0.087592 |
PaintCorrectionExposure2012 (3) | 0.000000 |
PaintCorrectionExposure2012 | 0.095404 |
PaintCorrectionHighlights2012 (3) | -1.000000 |
PaintCorrectionHighlights2012 | 0.000000 |
PaintCorrectionHue | 240.000000 |
PaintCorrectionLuminanceNoise | 0.000000 |
PaintCorrectionMaskCenterWeight | 0.060917 |
PaintCorrectionMaskFlow | 1.000000 |
PaintCorrectionMaskRadius (1) | 0.016424 |
PaintCorrectionMaskRadius (10) | 0.066276 |
PaintCorrectionMaskRadius (11) | 0.055657 |
PaintCorrectionMaskRadius (12) | 0.031867 |
PaintCorrectionMaskRadius (13) | 0.032475 |
PaintCorrectionMaskRadius (14) | 0.009901 |
PaintCorrectionMaskRadius (16) | 0.006181 |
PaintCorrectionMaskRadius (17) | 0.006182 |
PaintCorrectionMaskRadius (18) | 0.006178 |
PaintCorrectionMaskRadius (19) | 0.006180 |
PaintCorrectionMaskRadius (2) | 0.026685 |
PaintCorrectionMaskRadius (3) | 0.016496 |
PaintCorrectionMaskRadius (4) | 0.016310 |
PaintCorrectionMaskRadius (5) | 0.016426 |
PaintCorrectionMaskRadius (6) | 0.016250 |
PaintCorrectionMaskRadius (7) | 0.016421 |
PaintCorrectionMaskRadius (8) | 0.026772 |
PaintCorrectionMaskRadius (9) | 0.065348 |
PaintCorrectionMaskRadius | 0.006128 |
PaintCorrectionMaskValue | 1.000000 |
PaintCorrectionMaskWhat | Mask/Paint |
PaintCorrectionMoire | 0.000000 |
PaintCorrectionSaturation | 0.000000 |
PaintCorrectionShadows2012 | 0.000000 |
PaintCorrectionSharpness | 0.000000 |
PaintCorrectionTemperature (3) | 0.112776 |
PaintCorrectionTemperature | 0.000000 |
PaintCorrectionTint (3) | 0.084007 |
PaintCorrectionTint | 0.000000 |
PaintCorrectionWhat | Correction |
ParametricDarks | 0 |
ParametricHighlights | +100 |
ParametricHighlightSplit | 75 |
ParametricLights | +5 |
ParametricMidtoneSplit | 50 |
ParametricShadows | 0 |
ParametricShadowSplit | 25 |
PerspectiveAspect | 0 |
PerspectiveHorizontal | 0 |
PerspectiveRotate | 0.0 |
PerspectiveScale | 100 |
PerspectiveUpright | 0 |
PerspectiveVertical | 0 |
PostCropVignetteAmount | 0 |
ProcessVersion | 6.7 |
ProfileDescription | Adobe RGB (1998) |
RedHue | 0 |
RedSaturation | 0 |
Saturation (1) | 0 |
Saturation | Normal |
SaturationAdjustmentAqua | +30 |
SaturationAdjustmentBlue | +10 |
SaturationAdjustmentGreen | +11 |
SaturationAdjustmentMagenta | 0 |
SaturationAdjustmentOrange | +6 |
SaturationAdjustmentPurple | 0 |
SaturationAdjustmentRed | +8 |
SaturationAdjustmentYellow | +13 |
ScaleFactor35efl | 1.0 |
SceneCaptureType | Landscape |
SceneType | Directly photographed |
SensingMethod | One-chip color area |
SensitivityType | Recommended Exposure Index |
SerialNumber | 6044631 |
Shadows2012 | +100 |
ShadowTint | 0 |
SharpenDetail | 100 |
SharpenEdgeMasking | 57 |
SharpenRadius | +3.0 |
Sharpness (1) | 72 |
Sharpness | Normal |
ShutterSpeed | 1 |
ShutterSpeedValue | 1 |
Software | Adobe Photoshop Lightroom 5.7 (Macintosh) |
SplitToningBalance | 0 |
SplitToningHighlightHue | 20 |
SplitToningHighlightSaturation | 24 |
SplitToningShadowHue | 12 |
SplitToningShadowSaturation | 9 |
SubjectDistanceRange | Unknown |
Tint | +5 |
ToneCurve | 0, 0, 255, 255 |
ToneCurveBlue | 0, 0, 255, 255 |
ToneCurveGreen | 0, 0, 255, 255 |
ToneCurveName | Linear |
ToneCurveName2012 | Linear |
ToneCurvePV2012 | 0, 0, 255, 255 |
ToneCurvePV2012Blue | 0, 0, 255, 255 |
ToneCurvePV2012Green | 0, 0, 255, 255 |
ToneCurvePV2012Red | 0, 0, 255, 255 |
ToneCurveRed | 0, 0, 255, 255 |
Version | 8.7 |
Vibrance | +10 |
VignetteAmount | 0 |
WhiteBalance (1) | Custom |
WhiteBalance | Manual |
Whites2012 | -100 |