Felt | Verdi |
AlreadyApplied | True |
Aperture | 8.0 |
ApertureValue | 8.0 |
AutoLateralCA | 0 |
AutoWhiteVersion | 134348800 |
BitsPerSample | 8 |
Blacks2012 | -19 |
BlueHue | 0 |
BlueSaturation | 0 |
CameraProfile | Embedded |
Caption-Abstract | OLYMPUS DIGITAL CAMERA |
CircGradBasedCorrActive | true |
CircGradBasedCorrAmount | 1.000000 |
CircGradBasedCorrBrightness | 0.000000 |
CircGradBasedCorrClarity2012 (2) | 0.080460 |
CircGradBasedCorrClarity2012 | -0.034480 |
CircGradBasedCorrContrast2012 (1) | 0.034480 |
CircGradBasedCorrContrast2012 | 0.000000 |
CircGradBasedCorrDefringe | 0.000000 |
CircGradBasedCorrExposure2012 (2) | 0.034500 |
CircGradBasedCorrExposure2012 | 0.000000 |
CircGradBasedCorrHighlights2012 (1) | 0.000000 |
CircGradBasedCorrHighlights2012 | -0.057470 |
CircGradBasedCorrHue | 240.000000 |
CircGradBasedCorrLocalBlacks2012 | 0.000000 |
CircGradBasedCorrLocalDehaze (1) | 0.057470 |
CircGradBasedCorrLocalDehaze (2) | 0.000000 |
CircGradBasedCorrLocalDehaze | 0.080460 |
CircGradBasedCorrLocalWhites2012 | 0.000000 |
CircGradBasedCorrLuminanceNoise | 0.000000 |
CircGradBasedCorrMaskAngle | -0.848284 |
CircGradBasedCorrMaskBottom (1) | 0.787082 |
CircGradBasedCorrMaskBottom (2) | 0.737108 |
CircGradBasedCorrMaskBottom | 0.107318 |
CircGradBasedCorrMaskFeather | +50 |
CircGradBasedCorrMaskFlipped | true |
CircGradBasedCorrMaskLeft (1) | 0.202464 |
CircGradBasedCorrMaskLeft (2) | -0.080810 |
CircGradBasedCorrMaskLeft | 0.226416 |
CircGradBasedCorrMaskMidpoint | +50 |
CircGradBasedCorrMaskRight (1) | 0.713227 |
CircGradBasedCorrMaskRight (2) | 0.186788 |
CircGradBasedCorrMaskRight | 0.647634 |
CircGradBasedCorrMaskRoundness | 0 |
CircGradBasedCorrMaskTop (1) | 0.162542 |
CircGradBasedCorrMaskTop (2) | 0.265650 |
CircGradBasedCorrMaskTop | 0.019666 |
CircGradBasedCorrMaskValue | 1.000000 |
CircGradBasedCorrMaskVersion | +2 |
CircGradBasedCorrMaskWhat | Mask/CircularGradient |
CircGradBasedCorrMoire | 0.000000 |
CircGradBasedCorrSaturation (1) | 0.080460 |
CircGradBasedCorrSaturation (3) | 0.103450 |
CircGradBasedCorrSaturation (5) | 0.126440 |
CircGradBasedCorrSaturation | 0.000000 |
CircGradBasedCorrShadows2012 (1) | 0.080460 |
CircGradBasedCorrShadows2012 (2) | 0.126440 |
CircGradBasedCorrShadows2012 | -0.057470 |
CircGradBasedCorrSharpness | 0.000000 |
CircGradBasedCorrTemperature (1) | 0.000000 |
CircGradBasedCorrTemperature (2) | 0.034480 |
CircGradBasedCorrTemperature | -0.195400 |
CircGradBasedCorrTint | 0.000000 |
CircGradBasedCorrWhat | Correction |
CircleOfConfusion | 0.015 mm |
Clarity2012 | +36 |
ColorComponents | 3 |
ColorNoiseReduction | 0 |
ColorSpace | sRGB |
ColorTransform | YCbCr |
Contrast | Normal |
Contrast2012 | 0 |
ConvertToGrayscale | False |
CreateDate | 2017:07:16 07:56:20 |
CreatorTool | Adobe Photoshop Lightroom 6.9 (Windows) |
CropAngle | -0.848284 |
CropBottom | 0.859989 |
CropConstrainToWarp | 0 |
CropLeft | 0.001562 |
CropRight | 0.940411 |
CropTop | 0.051967 |
CustomRendered | Normal |
DateCreated (1) | 2017:07:16 |
DateCreated | 2017:07:16 07:56:20 |
DateTimeOriginal | 2017:07:16 07:56:20 |
DefringeGreenAmount | 0 |
DefringeGreenHueHi | 60 |
DefringeGreenHueLo | 40 |
DefringePurpleAmount | 0 |
DefringePurpleHueHi | 70 |
DefringePurpleHueLo | 30 |
Dehaze | +14 |
Description | OLYMPUS DIGITAL CAMERA |
DigitalZoomRatio | 1 |
Exposure2012 | -0.48 |
ExposureCompensation | 0 |
ExposureMode | Auto |
ExposureProgram | Program AE |
ExposureTime | 1/60 |
Flash | Off, Did not fire |
FlashCompensation | 0 |
FNumber | 8.0 |
FocalLength | 40.0 mm |
FocalLength35efl | 40.0 mm (35 mm equivalent: 80.0 mm) |
FocalLengthIn35mmFormat | 80 mm |
Format | image/jpeg |
FOV | 25.4 deg |
GainControl | None |
GrainAmount | 0 |
GreenHue | 0 |
GreenSaturation | 0 |
HasCrop | True |
HasSettings | True |
Highlights2012 | -48 |
HueAdjustmentAqua | 0 |
HueAdjustmentBlue | 0 |
HueAdjustmentGreen | 0 |
HueAdjustmentMagenta | 0 |
HueAdjustmentOrange | 0 |
HueAdjustmentPurple | 0 |
HueAdjustmentRed | 0 |
HueAdjustmentYellow | 0 |
HyperfocalDistance | 13.31 m |
ImageDescription | OLYMPUS DIGITAL CAMERA |
ImageHeight | 5058 |
ImageSize | 7587x5058 |
ImageWidth | 7587 |
IncrementalTemperature | +31 |
IncrementalTint | 0 |
ISO | 200 |
Lens | OLYMPUS M.40-150mm F2.8 |
LensInfo | 40-150mm f/2.8 |
LensManualDistortionAmount | 0 |
LensModel | OLYMPUS M.40-150mm F2.8 |
LensProfileEnable | 0 |
LensProfileSetup | LensDefaults |
LensSerialNumber | ABV22768100 |
LightSource | Unknown |
LightValue | 10.9 |
LuminanceAdjustmentAqua | 0 |
LuminanceAdjustmentBlue | 0 |
LuminanceAdjustmentGreen | +11 |
LuminanceAdjustmentMagenta | 0 |
LuminanceAdjustmentOrange | -7 |
LuminanceAdjustmentPurple | 0 |
LuminanceAdjustmentRed | 0 |
LuminanceAdjustmentYellow | -7 |
LuminanceNoiseReductionContrast | 0 |
LuminanceNoiseReductionDetail | 50 |
LuminanceSmoothing | 12 |
Make | OLYMPUS CORPORATION |
MaxApertureValue | 2.8 |
Megapixels | 38.4 |
MeteringMode | Spot |
Model | E-M1MarkII |
ModifyDate (1) | 2017:07:18 00:07:52+02:00 |
ModifyDate | 2017:07:18 00:07:52 |
ParametricDarks | 0 |
ParametricHighlights | 0 |
ParametricHighlightSplit | 75 |
ParametricLights | 0 |
ParametricMidtoneSplit | 50 |
ParametricShadows | 0 |
ParametricShadowSplit | 25 |
PerspectiveAspect | 0 |
PerspectiveHorizontal | 0 |
PerspectiveRotate | 0.0 |
PerspectiveScale | 100 |
PerspectiveUpright | 0 |
PerspectiveVertical | 0 |
PerspectiveX | 0.00 |
PerspectiveY | 0.00 |
PostCropVignetteAmount | -29 |
PostCropVignetteFeather | 68 |
PostCropVignetteHighlightContrast | 0 |
PostCropVignetteMidpoint | 40 |
PostCropVignetteRoundness | 0 |
PostCropVignetteStyle | 1 |
ProcessVersion | 6.7 |
ProfileDescription | sRGB IEC61966-2.1 |
RedHue | 0 |
RedSaturation | 0 |
Saturation (1) | +2 |
Saturation | Normal |
SaturationAdjustmentAqua | 0 |
SaturationAdjustmentBlue | 0 |
SaturationAdjustmentGreen | 0 |
SaturationAdjustmentMagenta | 0 |
SaturationAdjustmentOrange | 0 |
SaturationAdjustmentPurple | 0 |
SaturationAdjustmentRed | 0 |
SaturationAdjustmentYellow | 0 |
ScaleFactor35efl | 2.0 |
SceneCaptureType | Standard |
SensitivityType | Standard Output Sensitivity |
SerialNumber | BHUA26085 |
Shadows2012 | +10 |
ShadowTint | 0 |
SharpenDetail | 25 |
SharpenEdgeMasking | 0 |
SharpenRadius | +1.0 |
Sharpness (1) | 0 |
Sharpness | Normal |
ShutterSpeed | 1/60 |
ShutterSpeedValue | 1/60 |
Software | Adobe Photoshop Lightroom 6.9 (Windows) |
SplitToningBalance | 0 |
SplitToningHighlightHue | 51 |
SplitToningHighlightSaturation | 22 |
SplitToningShadowHue | 66 |
SplitToningShadowSaturation | 7 |
ToneCurve | 0, 0, 255, 255 |
ToneCurveBlue | 0, 0, 255, 255 |
ToneCurveGreen | 0, 0, 255, 255 |
ToneCurveName | Linear |
ToneCurveName2012 | Linear |
ToneCurvePV2012 | 0, 0, 255, 255 |
ToneCurvePV2012Blue | 0, 0, 255, 255 |
ToneCurvePV2012Green | 0, 0, 255, 255 |
ToneCurvePV2012Red | 0, 0, 255, 255 |
ToneCurveRed | 0, 0, 255, 255 |
ToneMapStrength | 0 |
Version | 9.9 |
Vibrance | +26 |
VignetteAmount | 0 |
WhiteBalance (1) | Custom |
WhiteBalance | Auto |
Whites2012 | -14 |