Felt | Verdi |
AlreadyApplied | True |
Aperture | 5.6 |
ApertureValue | 5.6 |
ApproximateFocusDistance | 4294967295 |
AutoLateralCA | 0 |
BitsPerSample | 8 |
Blacks2012 | -15 |
BlueHue | 0 |
BlueSaturation | 0 |
CameraProfile | Adobe Standard |
CFAPattern | [Green,Blue][Red,Green] |
CircleOfConfusion | 0.020 mm |
Clarity2012 | 0 |
ColorComponents | 3 |
ColorGradeBlending | 50 |
ColorGradeGlobalHue | 0 |
ColorGradeGlobalLum | 0 |
ColorGradeGlobalSat | 0 |
ColorGradeHighlightLum | 0 |
ColorGradeMidtoneHue | 0 |
ColorGradeMidtoneLum | 0 |
ColorGradeMidtoneSat | 0 |
ColorGradeShadowLum | 0 |
ColorNoiseReduction | 25 |
ColorNoiseReductionDetail | 50 |
ColorNoiseReductionSmoothness | 50 |
ColorSpace | sRGB |
ColorTemperature | 3053 |
ColorTransform | YCbCr |
CompatibleVersion | 234881024 |
Contrast | Normal |
Contrast2012 | -30 |
CreateDate (1) | 2011:10:26 17:33:26.501 |
CreateDate | 2011:10:26 17:33:26 |
CreatorTool | Adobe Photoshop Lightroom Classic 11.1 (Windows) |
CropAngle | 0.133246 |
CropBottom | 0.974564 |
CropConstrainToWarp | 0 |
CropLeft | 0.491548 |
CropRight | 0.945806 |
CropTop | 0.206496 |
CustomRendered | Normal |
DateCreated (1) | 2011:10:26 |
DateCreated | 2011:10:26 17:33:22.50 |
DateTimeOriginal | 2011:10:26 17:33:26 |
DefringeGreenAmount | 0 |
DefringeGreenHueHi | 60 |
DefringeGreenHueLo | 40 |
DefringePurpleAmount | 0 |
DefringePurpleHueHi | 70 |
DefringePurpleHueLo | 30 |
Dehaze | 0 |
DigitalZoomRatio | 1 |
DistortionCorrectionAlreadyApplied | True |
DOF | inf (97.97 m - inf) |
Exposure2012 | -0.57 |
ExposureCompensation | 0 |
ExposureMode | Manual |
ExposureProgram | Manual |
ExposureTime | 1/30 |
Flash | No Flash |
FNumber | 5.6 |
FocalLength | 105.0 mm |
FocalLength35efl | 105.0 mm (35 mm equivalent: 157.0 mm) |
FocalLengthIn35mmFormat | 157 mm |
Format | image/jpeg |
FOV | 13.1 deg |
GainControl | Low gain up |
GrainAmount | 0 |
GreenHue | 0 |
GreenSaturation | 0 |
HasCrop | True |
HasSettings | True |
Highlights2012 | -50 |
HueAdjustmentAqua | 0 |
HueAdjustmentBlue | 0 |
HueAdjustmentGreen | 0 |
HueAdjustmentMagenta | 0 |
HueAdjustmentOrange | 0 |
HueAdjustmentPurple | 0 |
HueAdjustmentRed | 0 |
HueAdjustmentYellow | 0 |
HyperfocalDistance | 97.97 m |
ImageHeight | 4715 |
ImageNumber | 8699 |
ImageSize | 11811x4715 |
ImageWidth | 11811 |
IsMergedPanorama | True |
ISO | 800 |
LateralChromaticAberrationCorrectionAlreadyApplied | True |
Lens | 18.0-105.0 mm f/3.5-5.6 |
LensID (1) | 158 |
LensID | AF-S DX VR Zoom-Nikkor 18-105mm f/3.5-5.6G ED |
LensInfo | 18-105mm f/3.5-5.6 |
LensManualDistortionAmount | 0 |
LensModel | 18.0-105.0 mm f/3.5-5.6 |
LensProfileEnable | 0 |
LightSource | Unknown |
LightValue | 6.9 |
LookAmount | 0.41 |
LookCluster | Adobe |
LookGroup | Modern |
LookName | Modern 04 |
LookParametersClarity2012 | +5 |
LookParametersColorGradeBlending | 100 |
LookParametersColorGradeGlobalHue | 0 |
LookParametersColorGradeGlobalLum | 0 |
LookParametersColorGradeGlobalSat | 0 |
LookParametersColorGradeHighlightLum | 0 |
LookParametersColorGradeMidtoneHue | 0 |
LookParametersColorGradeMidtoneLum | 0 |
LookParametersColorGradeMidtoneSat | 0 |
LookParametersColorGradeShadowLum | 0 |
LookParametersContrast2012 | +15 |
LookParametersConvertToGrayscale | False |
LookParametersExposure2012 | +0.20 |
LookParametersLookTable | E1095149FDB39D7A057BAB208837E2E1 |
LookParametersParametricDarks | -9 |
LookParametersParametricHighlights | 0 |
LookParametersParametricHighlightSplit | 75 |
LookParametersParametricLights | 0 |
LookParametersParametricMidtoneSplit | 50 |
LookParametersParametricShadows | 0 |
LookParametersParametricShadowSplit | 25 |
LookParametersProcessVersion | 11.0 |
LookParametersSaturationAdjustmentOrange | -10 |
LookParametersShadows2012 | +21 |
LookParametersSplitToningBalance | 0 |
LookParametersSplitToningHighlightHue | 0 |
LookParametersSplitToningHighlightSaturation | 0 |
LookParametersSplitToningShadowHue | 215 |
LookParametersSplitToningShadowSaturation | 10 |
LookParametersVersion | 14.1 |
LookSupportsMonochrome | false |
LuminanceAdjustmentAqua | -7 |
LuminanceAdjustmentBlue | -56 |
LuminanceAdjustmentGreen | 0 |
LuminanceAdjustmentMagenta | 0 |
LuminanceAdjustmentOrange | +2 |
LuminanceAdjustmentPurple | +3 |
LuminanceAdjustmentRed | +21 |
LuminanceAdjustmentYellow | -17 |
LuminanceSmoothing | 0 |
Make | NIKON CORPORATION |
MaxApertureValue | 5.7 |
Megapixels | 55.7 |
MeteringMode | Multi-segment |
Model | NIKON D5000 |
ModifyDate (1) | 2022:02:05 20:39:10+01:00 |
ModifyDate | 2022:02:05 20:39:10 |
OverrideLookVignette | False |
ParametricDarks | 0 |
ParametricHighlights | 0 |
ParametricHighlightSplit | 75 |
ParametricLights | 0 |
ParametricMidtoneSplit | 50 |
ParametricShadows | 0 |
ParametricShadowSplit | 25 |
PerspectiveAspect | 0 |
PerspectiveHorizontal | 0 |
PerspectiveRotate | 0.0 |
PerspectiveScale | 100 |
PerspectiveUpright | 0 |
PerspectiveVertical | 0 |
PerspectiveX | 0.00 |
PerspectiveY | 0.00 |
PostCropVignetteAmount | 0 |
ProcessVersion | 11.0 |
ProfileDescription | sRGB IEC61966-2.1 |
RawFileName | |
RedHue | 0 |
RedSaturation | 0 |
Saturation (1) | -3 |
Saturation | Normal |
SaturationAdjustmentAqua | 0 |
SaturationAdjustmentBlue | -53 |
SaturationAdjustmentGreen | 0 |
SaturationAdjustmentMagenta | 0 |
SaturationAdjustmentOrange | -20 |
SaturationAdjustmentPurple | +1 |
SaturationAdjustmentRed | -8 |
SaturationAdjustmentYellow | -10 |
ScaleFactor35efl | 1.5 |
SceneCaptureType | Standard |
SceneType | Directly photographed |
SensingMethod | One-chip color area |
SerialNumber | 6254354 |
Shadows2012 | +31 |
ShadowTint | 0 |
SharpenDetail | 25 |
SharpenEdgeMasking | 0 |
SharpenRadius | +1.0 |
Sharpness (1) | 40 |
Sharpness | Hard |
ShutterSpeed | 1/30 |
ShutterSpeedValue | 1/30 |
Software | Adobe Photoshop Lightroom Classic 11.1 (Windows) |
SplitToningBalance | 0 |
SplitToningHighlightHue | 0 |
SplitToningHighlightSaturation | 0 |
SplitToningShadowHue | 0 |
SplitToningShadowSaturation | 0 |
SubjectDistanceRange | Unknown |
Texture | 0 |
Tint | -28 |
ToneCurveName2012 | Linear |
ToneCurvePV2012 | 0, 0, 255, 255 |
ToneCurvePV2012Blue | 0, 0, 255, 255 |
ToneCurvePV2012Green | 0, 0, 255, 255 |
ToneCurvePV2012Red | 0, 0, 255, 255 |
Transformation | Cylindrical |
Version | 14.1 |
Vibrance | +14 |
VignetteAmount | 0 |
VignetteCorrectionAlreadyApplied | True |
VirtualFocalLength | 1.325787 |
VirtualImageXCenter | 0.427581 |
VirtualImageYCenter | 0.128954 |
WhiteBalance (1) | Custom |
WhiteBalance | Auto |
Whites2012 | +6 |