Felt | Verdi |
AlreadyApplied | True |
Aperture | 9.5 |
ApertureValue | 9.5 |
ApproximateFocusDistance | 4294967295 |
AutoLateralCA | 0 |
BitsPerSample | 8 |
Blacks2012 | -29 |
BlueHue | 0 |
BlueSaturation | 0 |
CameraProfile | Camera Standard |
CircleOfConfusion | 0.038 mm |
Clarity2012 | 0 |
ColorComponents | 3 |
ColorGradeBlending | 50 |
ColorGradeGlobalHue | 0 |
ColorGradeGlobalLum | 0 |
ColorGradeGlobalSat | 0 |
ColorGradeHighlightLum | 0 |
ColorGradeMidtoneHue | 0 |
ColorGradeMidtoneLum | 0 |
ColorGradeMidtoneSat | 0 |
ColorGradeShadowLum | 0 |
ColorMode | RGB |
ColorNoiseReduction | 25 |
ColorNoiseReductionDetail | 50 |
ColorNoiseReductionSmoothness | 50 |
ColorSpace | Uncalibrated |
ColorTemperature | 7450 |
ColorTransform | YCbCr |
Contrast2012 | +75 |
ConvertToGrayscale | False |
Copyright | Hasselblad X1D |
CopyrightNotice | Hasselblad X1D |
CreateDate | 2022:07:17 18:23:07.1 |
CreatorTool | v1.24.0-38 |
DateCreated (1) | 2022:07:17 |
DateCreated | 2022:07:17 18:23:07 |
DateTimeOriginal | 2022:07:17 18:23:07 |
DefringeGreenAmount | 0 |
DefringeGreenHueHi | 60 |
DefringeGreenHueLo | 40 |
DefringePurpleAmount | 0 |
DefringePurpleHueHi | 70 |
DefringePurpleHueLo | 30 |
Dehaze | 0 |
DOF | inf (9.88 m - inf) |
ExifImageHeight | 1558 |
ExifImageWidth | 2400 |
Exposure2012 | -1.40 |
ExposureCompensation | -2 |
ExposureProgram | Aperture-priority AE |
ExposureTime | 1/2000 |
FNumber | 9.5 |
FocalLength | 60.0 mm |
FocalLength35efl | 60.0 mm (35 mm equivalent: 47.0 mm) |
FocalLengthIn35mmFormat | 47 mm |
Format | image/jpeg |
FOV | 41.9 deg |
GrainAmount | 0 |
GreenHue | 0 |
GreenSaturation | 0 |
HasCrop | False |
HasSettings | True |
Highlights2012 | +100 |
HueAdjustmentAqua | 0 |
HueAdjustmentBlue | 0 |
HueAdjustmentGreen | 0 |
HueAdjustmentMagenta | 0 |
HueAdjustmentOrange | 0 |
HueAdjustmentPurple | 0 |
HueAdjustmentRed | 0 |
HueAdjustmentYellow | 0 |
HyperfocalDistance | 9.88 m |
ICCProfileName | Adobe RGB (1998) |
ImageHeight | 1558 |
ImageSize | 2400x1558 |
ImageWidth | 2400 |
IsMergedHDR | True |
ISO | 100 |
Lens | XCD 35-75@60 |
LensMake | Hasselblad |
LensManualDistortionAmount | 0 |
LensModel | XCD 35-75@60 |
LensProfileEnable | 0 |
LightValue | 17.5 |
LuminanceAdjustmentAqua | 0 |
LuminanceAdjustmentBlue | 0 |
LuminanceAdjustmentGreen | 0 |
LuminanceAdjustmentMagenta | 0 |
LuminanceAdjustmentOrange | 0 |
LuminanceAdjustmentPurple | 0 |
LuminanceAdjustmentRed | 0 |
LuminanceAdjustmentYellow | 0 |
LuminanceSmoothing | 0 |
Make | Hasselblad |
Megapixels | 3.7 |
MeteringMode | Center-weighted average |
Model | Hasselblad X1D |
ModifyDate (1) | 2022:07:22 15:46:11+02:00 |
ModifyDate | 2022:07:22 15:46:11 |
Orientation | Horizontal (normal) |
OverrideLookVignette | False |
ParametricDarks | 0 |
ParametricHighlights | 0 |
ParametricHighlightSplit | 75 |
ParametricLights | 0 |
ParametricMidtoneSplit | 50 |
ParametricShadows | 0 |
ParametricShadowSplit | 25 |
PerspectiveAspect | 0 |
PerspectiveHorizontal | 0 |
PerspectiveRotate | 0.0 |
PerspectiveScale | 100 |
PerspectiveUpright | 0 |
PerspectiveVertical | 0 |
PerspectiveX | 0.00 |
PerspectiveY | 0.00 |
PostCropVignetteAmount | 0 |
ProcessVersion | 11.0 |
ProfileDescription | Adobe RGB (1998) |
Rating | 0 |
RedHue | 0 |
RedSaturation | 0 |
Rights | Hasselblad X1D |
Saturation | +2 |
SaturationAdjustmentAqua | 0 |
SaturationAdjustmentBlue | 0 |
SaturationAdjustmentGreen | 0 |
SaturationAdjustmentMagenta | 0 |
SaturationAdjustmentOrange | 0 |
SaturationAdjustmentPurple | 0 |
SaturationAdjustmentRed | 0 |
SaturationAdjustmentYellow | 0 |
ScaleFactor35efl | 0.8 |
Shadows2012 | +95 |
ShadowTint | 0 |
SharpenDetail | 25 |
SharpenEdgeMasking | 0 |
SharpenRadius | +1.0 |
Sharpness | 40 |
ShutterSpeed | 1/2000 |
ShutterSpeedValue | 1/2000 |
Software | Adobe Photoshop 23.4 (Macintosh) |
SplitToningBalance | 0 |
SplitToningHighlightHue | 0 |
SplitToningHighlightSaturation | 0 |
SplitToningShadowHue | 0 |
SplitToningShadowSaturation | 0 |
SubjectDistance | 4294967295 m |
Texture | 0 |
Tint | +6 |
ToneCurveName2012 | Linear |
ToneCurvePV2012 | 0, 0, 255, 255 |
ToneCurvePV2012Blue | 0, 0, 255, 255 |
ToneCurvePV2012Green | 0, 0, 255, 255 |
ToneCurvePV2012Red | 0, 0, 255, 255 |
URL_List | |
Version | 14.4 |
Vibrance | +18 |
VignetteAmount | 0 |
WhiteBalance | As Shot |
Whites2012 | +58 |