Felt | Verdi |
AlreadyApplied | True |
Aperture | 10.0 |
ApertureValue | 10.0 |
AutoLateralCA | 0 |
BitsPerSample | 8 |
Blacks2012 | 0 |
BlueHue | 0 |
BlueSaturation | 0 |
CameraProfile | Embedded |
CircleOfConfusion | 0.030 mm |
Clarity2012 | -4 |
ColorComponents | 3 |
ColorGradeBlending | 50 |
ColorGradeGlobalHue | 0 |
ColorGradeGlobalLum | 0 |
ColorGradeGlobalSat | 0 |
ColorGradeHighlightLum | 0 |
ColorGradeMidtoneHue | 0 |
ColorGradeMidtoneLum | 0 |
ColorGradeMidtoneSat | 0 |
ColorGradeShadowLum | 0 |
ColorNoiseReduction | 0 |
ColorSpace | Uncalibrated |
ColorTransform | YCbCr |
CompatibleVersion | 234881024 |
Contrast | Normal |
Contrast2012 | 0 |
ConvertToGrayscale | False |
CreateDate (1) | 2024:03:16 15:56:28.48+02:00 |
CreateDate | 2024:03:16 15:56:28 |
CreatorTool | Adobe Photoshop Lightroom Classic 13.2 (Windows) |
CropAngle | 0 |
CropBottom | 0.751187 |
CropConstrainToWarp | 0 |
CropLeft | 0 |
CropRight | 1 |
CropTop | 0.084521 |
CustomRendered | Custom |
DateCreated (1) | 2024:03:16 |
DateCreated | 2024:03:16 15:56:28.048+02:00 |
DateTimeOriginal | 2024:03:16 15:56:28 |
DefringeGreenAmount | 0 |
DefringeGreenHueHi | 60 |
DefringeGreenHueLo | 40 |
DefringePurpleAmount | 0 |
DefringePurpleHueHi | 70 |
DefringePurpleHueLo | 30 |
Dehaze | 0 |
DistortionCorrectionAlreadyApplied | True |
Exposure2012 | +0.26 |
ExposureCompensation | +2/3 |
ExposureMode | Auto |
ExposureProgram | Aperture-priority AE |
ExposureTime | 1.3 |
Flash | No Flash |
FNumber | 10.0 |
FocalLength | 37.0 mm |
FocalLength35efl | 37.0 mm (35 mm equivalent: 37.0 mm) |
FocalLengthIn35mmFormat | 37 mm |
Format | image/jpeg |
FOV | 51.9 deg |
GainControl | None |
GrainAmount | 0 |
GreenHue | 0 |
GreenSaturation | 0 |
HasCrop | True |
HasSettings | True |
HDREditMode | 0 |
Highlights2012 | 0 |
HueAdjustmentAqua | 0 |
HueAdjustmentBlue | 0 |
HueAdjustmentGreen | 0 |
HueAdjustmentMagenta | 0 |
HueAdjustmentOrange | 0 |
HueAdjustmentPurple | 0 |
HueAdjustmentRed | 0 |
HueAdjustmentYellow | 0 |
HyperfocalDistance | 4.56 m |
ImageHeight | 2500 |
ImageNumber | 13920 |
ImageSize | 2500x2500 |
ImageWidth | 2500 |
IncrementalTemperature | 0 |
IncrementalTint | 0 |
ISO | 160 |
LateralChromaticAberrationCorrectionAlreadyApplied | True |
Lens | NIKKOR Z 24-70mm f/4 S |
LensInfo (2) | 24 |
LensInfo | 24-70mm f/4 |
LensMake | NIKON |
LensManualDistortionAmount | 0 |
LensModel | NIKKOR Z 24-70mm f/4 S |
LensProfileEnable | 0 |
LensSerialNumber | 20148614 |
LightSource | Unknown |
LightValue | 5.6 |
LuminanceAdjustmentAqua | 0 |
LuminanceAdjustmentBlue | 0 |
LuminanceAdjustmentGreen | 0 |
LuminanceAdjustmentMagenta | 0 |
LuminanceAdjustmentOrange | 0 |
LuminanceAdjustmentPurple | 0 |
LuminanceAdjustmentRed | 0 |
LuminanceAdjustmentYellow | 0 |
LuminanceSmoothing | 0 |
Make | NIKON CORPORATION |
Megapixels | 6.2 |
MeteringMode | Multi-segment |
Model | NIKON Z 7 |
ModifyDate (1) | 2024:03:18 14:22:26+01:00 |
ModifyDate | 2024:03:18 14:22:26 |
OverrideLookVignette | False |
ParametricDarks | 0 |
ParametricHighlights | 0 |
ParametricHighlightSplit | 75 |
ParametricLights | 0 |
ParametricMidtoneSplit | 50 |
ParametricShadows | 0 |
ParametricShadowSplit | 25 |
PerspectiveAspect | 0 |
PerspectiveHorizontal | 0 |
PerspectiveRotate | 0.0 |
PerspectiveScale | 100 |
PerspectiveUpright | 0 |
PerspectiveVertical | 0 |
PerspectiveX | 0.00 |
PerspectiveY | 0.00 |
Pick | 0 |
PointColors | -1.000000, -1.000000, -1.000000, -1.000000, -1.000000, -1.000000, -1.000000, -1.000000, -1.000000, -1.000000, -1.000000, -1.000000, -1.000000, -1.000000, -1.000000, -1.000000, -1.000000, -1.000000, -1.000000 |
PostCropVignetteAmount | 0 |
PreservedFileName | _DSC9279.NEF |
ProcessVersion | 15.4 |
ProfileDescription | Display P3 |
RangeMaskMapInfoRangeMaskMapInfoLabMax | 0.999832 0.502159 0.507820 |
RangeMaskMapInfoRangeMaskMapInfoLabMin | 0.000275 0.492912 0.475975 |
RangeMaskMapInfoRangeMaskMapInfoRGBMax | 0.984628 0.991057 0.976999 |
RangeMaskMapInfoRangeMaskMapInfoRGBMin | 0.002219 0.002416 0.003975 |
RawFileName | Langedalen_vind_og_snøfokk.tif |
RecommendedExposureIndex | 160 |
RedHue | 0 |
RedSaturation | 0 |
Saturation (1) | 0 |
Saturation | Normal |
SaturationAdjustmentAqua | 0 |
SaturationAdjustmentBlue | 0 |
SaturationAdjustmentGreen | 0 |
SaturationAdjustmentMagenta | 0 |
SaturationAdjustmentOrange | 0 |
SaturationAdjustmentPurple | 0 |
SaturationAdjustmentRed | 0 |
SaturationAdjustmentYellow | 0 |
ScaleFactor35efl | 1.0 |
SceneCaptureType | Standard |
SceneType | Directly photographed |
SensingMethod | One-chip color area |
SensitivityType | Recommended Exposure Index |
SerialNumber | 6015455 |
Shadows2012 | 0 |
ShadowTint | 0 |
Sharpness (1) | 0 |
Sharpness | Normal |
ShutterSpeed | 1.3 |
ShutterSpeedValue | 1.3 |
Software | Adobe Photoshop Lightroom Classic 13.2 (Windows) |
SplitToningBalance | 0 |
SplitToningHighlightHue | 0 |
SplitToningHighlightSaturation | 0 |
SplitToningShadowHue | 0 |
SplitToningShadowSaturation | 0 |
SubjectDistanceRange | Unknown |
Texture | +19 |
ToneCurveName2012 | Linear |
ToneCurvePV2012 | 0, 0, 255, 255 |
ToneCurvePV2012Blue | 0, 0, 255, 255 |
ToneCurvePV2012Green | 0, 0, 255, 255 |
ToneCurvePV2012Red | 0, 0, 255, 255 |
Version | 16.2 |
Vibrance | 0 |
VignetteAmount | 0 |
VignetteCorrectionAlreadyApplied | True |
WhiteBalance (1) | As Shot |
WhiteBalance | Auto |
Whites2012 | 0 |