Felt | Verdi |
AlreadyApplied | True |
Aperture | 2.8 |
ApertureValue | 2.8 |
Artist | Geir Hauso |
BitsPerSample | 8 |
BlueHue | 0 |
BlueSaturation | 0 |
Brightness | 0 |
By-line | Geir Hauso |
CameraProfile | Adobe Standard |
ChromaticAberrationB | 0 |
ChromaticAberrationR | 0 |
CircleOfConfusion | 0.019 mm |
Clarity | 0 |
ColorComponents | 3 |
ColorNoiseReduction | 25 |
ColorTemperature | 5550 |
Contrast | +50 |
ConvertToGrayscale | True |
CreateDate (1) | 2008:08:19 00:05:07.81+02:00 |
CreateDate | 2008:08:19 00:05:07 |
Creator | Geir Hauso |
CreatorTool | Adobe Photoshop Lightroom |
CropAngle | 0 |
CropBottom | 0.893669 |
CropHeight | 2046 |
CropLeft | 0.040469 |
CropRight | 0.829829 |
CropTop | 0.104308 |
CropUnit | pixels |
CropWidth | 3069 |
CustomRendered | Normal |
DateTimeDigitized | 2008:08:19 00:05:07.81+02:00 |
DateTimeOriginal (1) | 2008:08:19 00:05:07.81+02:00 |
DateTimeOriginal | 2008:08:19 00:05:07 |
Defringe | 0 |
ExifImageHeight | 2046 |
ExifImageWidth | 3069 |
Exposure | +1.10 |
ExposureCompensation | 0 |
ExposureMode | Auto |
ExposureProgram | Aperture-priority AE |
ExposureTime | 1/1250 |
FillLight | 0 |
Firmware | 1.0.3 |
Flash | Off, Did not fire |
FlashCompensation | 0 |
FlashFired | False |
FlashFunction | False |
FlashMode | Off |
FlashRedEyeMode | False |
FlashReturn | No return detection |
FNumber | 2.8 |
FocalLength | 80.0 mm |
FocalLength35efl | 80.0 mm (35 mm equivalent: 129.5 mm) |
FOV | 15.8 deg |
GrayMixerAqua | -10 |
GrayMixerBlue | +10 |
GrayMixerGreen | -24 |
GrayMixerMagenta | +10 |
GrayMixerOrange | +38 |
GrayMixerPurple | +5 |
GrayMixerRed | 0 |
GrayMixerYellow | +29 |
GreenHue | 0 |
GreenSaturation | 0 |
HasCrop | True |
HasSettings | True |
HighlightRecovery | 0 |
HyperfocalDistance | 123.15 m |
ImageHeight | 2046 |
ImageNumber | 0 |
ImageSize | 3069x2046 |
ImageWidth | 3069 |
ISO | 400 |
Keywords | Animal Kingdom, Florida, dyrepark |
Lens | EF70-200mm f/2.8L IS USM |
LensInfo | 70-200mm f/? |
LightValue | 11.3 |
LuminanceSmoothing | 0 |
Make | Canon |
MaxApertureValue | 2.8 |
Megapixels | 6.3 |
MeteringMode | Multi-segment |
Model | Canon EOS 40D |
ModifyDate (1) | 2009:04:09 01:16:55+02:00 |
ModifyDate | 2009:04:09 01:16:55 |
OwnerName | Geir Hauso |
ParametricDarks | -3 |
ParametricHighlights | 0 |
ParametricHighlightSplit | 75 |
ParametricLights | +28 |
ParametricMidtoneSplit | 50 |
ParametricShadows | -14 |
ParametricShadowSplit | 25 |
PostCropVignetteAmount | 0 |
ProfileDescription | sRGB IEC61966-2.1 |
RedHue | 0 |
RedSaturation | 0 |
ScaleFactor35efl | 1.6 |
SceneCaptureType | Standard |
SerialNumber | 530128126 |
Shadows | 4 |
ShadowTint | 0 |
SharpenDetail | 81 |
SharpenEdgeMasking | 0 |
SharpenRadius | +1.5 |
Sharpness | 77 |
ShutterSpeed | 1/1250 |
ShutterSpeedValue | 1/1250 |
SplitToningBalance | -45 |
SplitToningHighlightHue | 64 |
SplitToningHighlightSaturation | 33 |
SplitToningShadowHue | 77 |
SplitToningShadowSaturation | 15 |
Subject | Animal Kingdom, Florida, dyrepark |
Tint | -4 |
ToneCurve | 0, 0, 32, 22, 64, 56, 128, 128, 192, 196, 255, 255 |
ToneCurveName | Medium Contrast |
Version | 5.3 |
VignetteAmount | 0 |
WhiteBalance (2) | Custom |
WhiteBalance | Auto |